BEGIN:VCALENDAR
VERSION:2.0
PRODID:-// Golfklúbbur Kópavogs og Garðabæjar - ECPv5.15.0.1//NONSGML v1.0//EN
CALSCALE:GREGORIAN
METHOD:PUBLISH
X-WR-CALNAME: Golfklúbbur Kópavogs og Garðabæjar
X-ORIGINAL-URL:https://gkg.is
X-WR-CALDESC:Events for  Golfklúbbur Kópavogs og Garðabæjar
REFRESH-INTERVAL;VALUE=DURATION:PT1H
X-Robots-Tag:noindex
X-PUBLISHED-TTL:PT1H
BEGIN:VTIMEZONE
TZID:Atlantic/Reykjavik
BEGIN:STANDARD
TZOFFSETFROM:+0000
TZOFFSETTO:+0000
TZNAME:GMT
DTSTART:20210101T000000
END:STANDARD
END:VTIMEZONE
BEGIN:VEVENT
DTSTART;TZID=Atlantic/Reykjavik:20210629T150000
DTEND;TZID=Atlantic/Reykjavik:20210629T190000
DTSTAMP:20260426T035719
CREATED:20210303T124743Z
LAST-MODIFIED:20210303T134247Z
UID:18739-1624978800-1624993200@gkg.is
SUMMARY:Freixenet - Einstaklingspunktamót með fullri forgjöf
DESCRIPTION:Mótið verður haldið á Mýrinni og verður leikfyrirkomulagið einstaklingspunktakeppni með fullri forgjöf.  \nRæst verður út frá 15:00 til 19:00. \nNánari upplýsingar verða birtar seinna á golfbox.golf.
URL:https://gkg.is/event/freixenet-einstaklingspunktamot-med-fullri-forgjof/
LOCATION:Mýrin\, Vífilsstaðarvegi\, Reykjavík\, Garðabær\, 210\, Iceland
CATEGORIES:Kvennanefnd,Mót
ORGANIZER;CN="Kvennanefnd%20GKG":MAILTO:gkgkonur@gmail.com
END:VEVENT
END:VCALENDAR