BEGIN:VCALENDAR
VERSION:2.0
PRODID:-// Golfklúbbur Kópavogs og Garðabæjar - ECPv5.15.0.1//NONSGML v1.0//EN
CALSCALE:GREGORIAN
METHOD:PUBLISH
X-WR-CALNAME: Golfklúbbur Kópavogs og Garðabæjar
X-ORIGINAL-URL:https://gkg.is
X-WR-CALDESC:Events for  Golfklúbbur Kópavogs og Garðabæjar
REFRESH-INTERVAL;VALUE=DURATION:PT1H
X-Robots-Tag:noindex
X-PUBLISHED-TTL:PT1H
BEGIN:VTIMEZONE
TZID:Atlantic/Reykjavik
BEGIN:STANDARD
TZOFFSETFROM:+0000
TZOFFSETTO:+0000
TZNAME:GMT
DTSTART:20210101T000000
END:STANDARD
END:VTIMEZONE
BEGIN:VEVENT
DTSTART;VALUE=DATE:20210704
DTEND;VALUE=DATE:20210711
DTSTAMP:20260426T035825
CREATED:20210215T135255Z
LAST-MODIFIED:20210215T135255Z
UID:18636-1625356800-1625961599@gkg.is
SUMMARY:Meistaramót GKG
DESCRIPTION:Stærsta golfhátíð ársins! \nNánari upplýsingar um Meistaramót GKG 2021 verða kynntar þegar nær dregur sumri.
URL:https://gkg.is/event/meistaramot-gkg-3/
LOCATION:Garðabær
CATEGORIES:Mót
END:VEVENT
END:VCALENDAR