BEGIN:VCALENDAR
VERSION:2.0
PRODID:-// Golfklúbbur Kópavogs og Garðabæjar - ECPv5.15.0.1//NONSGML v1.0//EN
CALSCALE:GREGORIAN
METHOD:PUBLISH
X-WR-CALNAME: Golfklúbbur Kópavogs og Garðabæjar
X-ORIGINAL-URL:https://gkg.is
X-WR-CALDESC:Events for  Golfklúbbur Kópavogs og Garðabæjar
REFRESH-INTERVAL;VALUE=DURATION:PT1H
X-Robots-Tag:noindex
X-PUBLISHED-TTL:PT1H
BEGIN:VTIMEZONE
TZID:Atlantic/Reykjavik
BEGIN:STANDARD
TZOFFSETFROM:+0000
TZOFFSETTO:+0000
TZNAME:GMT
DTSTART:20210101T000000
END:STANDARD
END:VTIMEZONE
BEGIN:VEVENT
DTSTART;TZID=Atlantic/Reykjavik:20210831T150000
DTEND;TZID=Atlantic/Reykjavik:20210831T190000
DTSTAMP:20260426T011821
CREATED:20210312T135955Z
LAST-MODIFIED:20210312T135955Z
UID:18839-1630422000-1630436400@gkg.is
SUMMARY:Freixenet - einstaklings punktamót á Mýrinni
DESCRIPTION:Í þessu móti má einungis hafa meðferðis eina kylfu og pútter. \nLITAÞEMA ER Í MÓTINU! 
URL:https://gkg.is/event/freixenet-einstaklings-punktamot-a-myrinni/
LOCATION:Mýrin\, Vífilsstaðarvegi\, Reykjavík\, Garðabær\, 210\, Iceland
CATEGORIES:Kvennanefnd,Mót
ORGANIZER;CN="Kvennanefnd%20GKG":MAILTO:gkgkonur@gmail.com
END:VEVENT
END:VCALENDAR