BEGIN:VCALENDAR
VERSION:2.0
PRODID:-// Golfklúbbur Kópavogs og Garðabæjar - ECPv5.15.0.1//NONSGML v1.0//EN
CALSCALE:GREGORIAN
METHOD:PUBLISH
X-WR-CALNAME: Golfklúbbur Kópavogs og Garðabæjar
X-ORIGINAL-URL:https://gkg.is
X-WR-CALDESC:Events for  Golfklúbbur Kópavogs og Garðabæjar
REFRESH-INTERVAL;VALUE=DURATION:PT1H
X-Robots-Tag:noindex
X-PUBLISHED-TTL:PT1H
BEGIN:VTIMEZONE
TZID:Atlantic/Reykjavik
BEGIN:STANDARD
TZOFFSETFROM:+0000
TZOFFSETTO:+0000
TZNAME:GMT
DTSTART:20210101T000000
END:STANDARD
END:VTIMEZONE
BEGIN:VEVENT
DTSTART;VALUE=DATE:20210519
DTEND;VALUE=DATE:20210520
DTSTAMP:20260423T153856
CREATED:20210217T133141Z
LAST-MODIFIED:20210217T133223Z
UID:18667-1621382400-1621468799@gkg.is
SUMMARY:Æfingamót 65+ á Mýrinni
DESCRIPTION:Ræst verður frá klukkan 10. \nSkráning verður á golfbox eftir 01.05.21.\, sjá hlekkinn þegar smellt er á viðburðinn.
URL:https://gkg.is/event/aefingamot-65-a-myrinni/
LOCATION:Mýrin\, Vífilsstaðarvegi\, Reykjavík\, Garðabær\, 210\, Iceland
CATEGORIES:65+ mót,Mót
END:VEVENT
END:VCALENDAR