BEGIN:VCALENDAR
VERSION:2.0
PRODID:-// Golfklúbbur Kópavogs og Garðabæjar - ECPv5.15.0.1//NONSGML v1.0//EN
CALSCALE:GREGORIAN
METHOD:PUBLISH
X-WR-CALNAME: Golfklúbbur Kópavogs og Garðabæjar
X-ORIGINAL-URL:https://gkg.is
X-WR-CALDESC:Events for  Golfklúbbur Kópavogs og Garðabæjar
REFRESH-INTERVAL;VALUE=DURATION:PT1H
X-Robots-Tag:noindex
X-PUBLISHED-TTL:PT1H
BEGIN:VTIMEZONE
TZID:Atlantic/Reykjavik
BEGIN:STANDARD
TZOFFSETFROM:+0000
TZOFFSETTO:+0000
TZNAME:GMT
DTSTART:20210101T000000
END:STANDARD
END:VTIMEZONE
BEGIN:VEVENT
DTSTART;TZID=Atlantic/Reykjavik:20210602T100000
DTEND;TZID=Atlantic/Reykjavik:20210602T120000
DTSTAMP:20260423T142148
CREATED:20210218T122819Z
LAST-MODIFIED:20210218T122819Z
UID:18682-1622628000-1622635200@gkg.is
SUMMARY:Heldri kylfinga mót á Leirdalnum (65+)
DESCRIPTION:18 holu mót á Leirdalnum fyrir heldri kylfinga.  \nRæst er út frá klukkan 10. \nNánari upplýsingar verður að finna á golfbox.golf þegar nær dregur (sjá hlekk þegar smellt er á viðburð).
URL:https://gkg.is/event/heldri-kylfinga-mot-a-leirdalnum-65/
LOCATION:Leirdalurinn\, Vífilsstaðarvegi\, Reykjavík\, Garðabær\, 210\, Iceland
CATEGORIES:65+ mót,Mót
END:VEVENT
END:VCALENDAR