BEGIN:VCALENDAR
VERSION:2.0
PRODID:-// Golfklúbbur Kópavogs og Garðabæjar - ECPv5.15.0.1//NONSGML v1.0//EN
CALSCALE:GREGORIAN
METHOD:PUBLISH
X-WR-CALNAME: Golfklúbbur Kópavogs og Garðabæjar
X-ORIGINAL-URL:https://gkg.is
X-WR-CALDESC:Events for  Golfklúbbur Kópavogs og Garðabæjar
REFRESH-INTERVAL;VALUE=DURATION:PT1H
X-Robots-Tag:noindex
X-PUBLISHED-TTL:PT1H
BEGIN:VTIMEZONE
TZID:Atlantic/Reykjavik
BEGIN:STANDARD
TZOFFSETFROM:+0000
TZOFFSETTO:+0000
TZNAME:GMT
DTSTART:20210101T000000
END:STANDARD
END:VTIMEZONE
BEGIN:VEVENT
DTSTART;VALUE=DATE:20211002
DTEND;VALUE=DATE:20211003
DTSTAMP:20260426T000317
CREATED:20210215T135518Z
LAST-MODIFIED:20210215T135518Z
UID:18641-1633132800-1633219199@gkg.is
SUMMARY:Bændaglíman
DESCRIPTION:Nánari upplýsingar verða birtar síðar
URL:https://gkg.is/event/baendagliman-3/
LOCATION:Leirdalurinn\, Vífilsstaðarvegi\, Reykjavík\, Garðabær\, 210\, Iceland
CATEGORIES:Mót
END:VEVENT
END:VCALENDAR