BEGIN:VCALENDAR
VERSION:2.0
PRODID:-// Golfklúbbur Kópavogs og Garðabæjar - ECPv5.15.0.1//NONSGML v1.0//EN
CALSCALE:GREGORIAN
METHOD:PUBLISH
X-WR-CALNAME: Golfklúbbur Kópavogs og Garðabæjar
X-ORIGINAL-URL:https://gkg.is
X-WR-CALDESC:Events for  Golfklúbbur Kópavogs og Garðabæjar
REFRESH-INTERVAL;VALUE=DURATION:PT1H
X-Robots-Tag:noindex
X-PUBLISHED-TTL:PT1H
BEGIN:VTIMEZONE
TZID:Atlantic/Reykjavik
BEGIN:STANDARD
TZOFFSETFROM:+0000
TZOFFSETTO:+0000
TZNAME:GMT
DTSTART:20210101T000000
END:STANDARD
END:VTIMEZONE
BEGIN:VEVENT
DTSTART;VALUE=DATE:20210701
DTEND;VALUE=DATE:20210702
DTSTAMP:20260426T035716
CREATED:20210217T130139Z
LAST-MODIFIED:20210217T130139Z
UID:18659-1625097600-1625183999@gkg.is
SUMMARY:Floridana mótaröðin (2)
DESCRIPTION:Annað mót í Floridana mótaröð GKG. \nNánari upplýsingar um rástíma og skráningu á golfbox.golf\, sjá hlekk ef smellt er á viðburðinn.
URL:https://gkg.is/event/floridana-motarodin-2/
LOCATION:Mýrin\, Vífilsstaðarvegi\, Reykjavík\, Garðabær\, 210\, Iceland
CATEGORIES:Mót,Unglingamót
END:VEVENT
BEGIN:VEVENT
DTSTART;VALUE=DATE:20210704
DTEND;VALUE=DATE:20210711
DTSTAMP:20260426T035716
CREATED:20210215T135255Z
LAST-MODIFIED:20210215T135255Z
UID:18636-1625356800-1625961599@gkg.is
SUMMARY:Meistaramót GKG
DESCRIPTION:Stærsta golfhátíð ársins! \nNánari upplýsingar um Meistaramót GKG 2021 verða kynntar þegar nær dregur sumri.
URL:https://gkg.is/event/meistaramot-gkg-3/
LOCATION:Garðabær
CATEGORIES:Mót
END:VEVENT
BEGIN:VEVENT
DTSTART;VALUE=DATE:20210704
DTEND;VALUE=DATE:20210707
DTSTAMP:20260426T035716
CREATED:20210218T130923Z
LAST-MODIFIED:20210218T130923Z
UID:18686-1625356800-1625615999@gkg.is
SUMMARY:Meistaramót 14 ára og yngri
DESCRIPTION:Meistaramót 14 ára og yngri á Mýrinni. \nNánari upplýsingar á golfbox.golf þegar nær dregur (sjá hlekk þegar smellt er á viðburðinn).
URL:https://gkg.is/event/meistaramot-14-ara-og-yngri/
LOCATION:Mýrin\, Vífilsstaðarvegi\, Reykjavík\, Garðabær\, 210\, Iceland
CATEGORIES:Mót,Unglingamót
END:VEVENT
BEGIN:VEVENT
DTSTART;TZID=Atlantic/Reykjavik:20210713T160000
DTEND;TZID=Atlantic/Reykjavik:20210713T190000
DTSTAMP:20260426T035716
CREATED:20210308T134135Z
LAST-MODIFIED:20210308T134135Z
UID:18773-1626192000-1626202800@gkg.is
SUMMARY:Kvennagolf á Mýrinni (8)
DESCRIPTION:Það opnar fyrir skráningu í Þriðjudagsspilið klukkan 12:00 á miðvikudeginum áður.\nEf það er orðið fullt skal senda tölvupóst á gkgkonur@gmail.com\, þá ertu komin á biðlista og farið verður eftir honum þegar skráð er. Engar undantekningar eru á því.
URL:https://gkg.is/event/kvennagolf-a-myrinni-8/
LOCATION:Mýrin\, Vífilsstaðarvegi\, Reykjavík\, Garðabær\, 210\, Iceland
CATEGORIES:Kvennanefnd,Mót
ORGANIZER;CN="Kvennanefnd%20GKG":MAILTO:gkgkonur@gmail.com
END:VEVENT
BEGIN:VEVENT
DTSTART;VALUE=DATE:20210714
DTEND;VALUE=DATE:20210715
DTSTAMP:20260426T035716
CREATED:20210217T115209Z
LAST-MODIFIED:20210217T120542Z
UID:18644-1626220800-1626307199@gkg.is
SUMMARY:Kristalsmótaröð (1)
DESCRIPTION:Fyrsta mót í unglingamótaröð GKG. \nNánari upplýsingar um rástíma og skráningu á golfbox.golf\, sjá hlekk ef smellt er á viðburðinn.
URL:https://gkg.is/event/kristalsmotarod-1/
LOCATION:Leirdalurinn\, Vífilsstaðarvegi\, Reykjavík\, Garðabær\, 210\, Iceland
CATEGORIES:Mót,Unglingamót
END:VEVENT
BEGIN:VEVENT
DTSTART;VALUE=DATE:20210715
DTEND;VALUE=DATE:20210716
DTSTAMP:20260426T035716
CREATED:20210217T130755Z
LAST-MODIFIED:20210217T130755Z
UID:18661-1626307200-1626393599@gkg.is
SUMMARY:Floridana mótaröð (3)
DESCRIPTION:Þriðja mót í unglingamótaröð GKG. \nNánari upplýsingar um rástíma og skráningu á golfbox.golf\, sjá hlekk ef smellt er á viðburðinn.
URL:https://gkg.is/event/floridana-motarod-3/
LOCATION:Mýrin\, Vífilsstaðarvegi\, Reykjavík\, Garðabær\, 210\, Iceland
CATEGORIES:Mót,Unglingamót
END:VEVENT
BEGIN:VEVENT
DTSTART;TZID=Atlantic/Reykjavik:20210720T160000
DTEND;TZID=Atlantic/Reykjavik:20210720T190000
DTSTAMP:20260426T035716
CREATED:20210308T134246Z
LAST-MODIFIED:20210308T134246Z
UID:18775-1626796800-1626807600@gkg.is
SUMMARY:Kvennagolf á Mýrinni (9)
DESCRIPTION:Það opnar fyrir skráningu í Þriðjudagsspilið klukkan 12:00 á miðvikudeginum áður.\nEf það er orðið fullt skal senda tölvupóst á gkgkonur@gmail.com\, þá ertu komin á biðlista og farið verður eftir honum þegar skráð er. Engar undantekningar eru á því.
URL:https://gkg.is/event/kvennagolf-a-myrinni-9/
LOCATION:Mýrin\, Vífilsstaðarvegi\, Reykjavík\, Garðabær\, 210\, Iceland
CATEGORIES:Kvennanefnd,Mót
ORGANIZER;CN="Kvennanefnd%20GKG":MAILTO:gkgkonur@gmail.com
END:VEVENT
BEGIN:VEVENT
DTSTART;VALUE=DATE:20210721
DTEND;VALUE=DATE:20210722
DTSTAMP:20260426T035716
CREATED:20210217T133503Z
LAST-MODIFIED:20210217T133503Z
UID:18670-1626825600-1626911999@gkg.is
SUMMARY:Öldungamót á Mýrinni (65+)
DESCRIPTION:Ræst verður frá klukkan 10. \nSkráning verður á golfbox eftir 06.06.21.\, sjá hlekkinn þegar smellt er á viðburðinn.
URL:https://gkg.is/event/oldungamot-a-myrinni-65/
LOCATION:Mýrin\, Vífilsstaðarvegi\, Reykjavík\, Garðabær\, 210\, Iceland
CATEGORIES:65+ mót,Mót
END:VEVENT
BEGIN:VEVENT
DTSTART;TZID=Atlantic/Reykjavik:20210727T150000
DTEND;TZID=Atlantic/Reykjavik:20210727T190000
DTSTAMP:20260426T035716
CREATED:20210308T142925Z
LAST-MODIFIED:20210308T142925Z
UID:18796-1627398000-1627412400@gkg.is
SUMMARY:Freixenet - tveggja manna Texasmót
DESCRIPTION:
URL:https://gkg.is/event/freixenet-tveggja-manna-texasmot/
LOCATION:Mýrin\, Vífilsstaðarvegi\, Reykjavík\, Garðabær\, 210\, Iceland
CATEGORIES:Kvennanefnd,Mót
ORGANIZER;CN="Kvennanefnd%20GKG":MAILTO:gkgkonur@gmail.com
END:VEVENT
BEGIN:VEVENT
DTSTART;VALUE=DATE:20210728
DTEND;VALUE=DATE:20210729
DTSTAMP:20260426T035716
CREATED:20210217T125054Z
LAST-MODIFIED:20210217T125054Z
UID:18649-1627430400-1627516799@gkg.is
SUMMARY:Kristalsmótaröð (2)
DESCRIPTION:Annað mót í unglingamótaröð GKG. \nNánari upplýsingar um rástíma og skráningu á golfbox.golf\, sjá hlekk ef smellt er á viðburðinn.
URL:https://gkg.is/event/kristalsmotarod-2/
LOCATION:Leirdalurinn\, Vífilsstaðarvegi\, Reykjavík\, Garðabær\, 210\, Iceland
CATEGORIES:Mót,Unglingamót
END:VEVENT
END:VCALENDAR