BEGIN:VCALENDAR
VERSION:2.0
PRODID:-// Golfklúbbur Kópavogs og Garðabæjar - ECPv5.15.0.1//NONSGML v1.0//EN
CALSCALE:GREGORIAN
METHOD:PUBLISH
X-WR-CALNAME: Golfklúbbur Kópavogs og Garðabæjar
X-ORIGINAL-URL:https://gkg.is
X-WR-CALDESC:Events for  Golfklúbbur Kópavogs og Garðabæjar
REFRESH-INTERVAL;VALUE=DURATION:PT1H
X-Robots-Tag:noindex
X-PUBLISHED-TTL:PT1H
BEGIN:VTIMEZONE
TZID:Atlantic/Reykjavik
BEGIN:STANDARD
TZOFFSETFROM:+0000
TZOFFSETTO:+0000
TZNAME:GMT
DTSTART:20210101T000000
END:STANDARD
END:VTIMEZONE
BEGIN:VEVENT
DTSTART;TZID=Atlantic/Reykjavik:20210803T160000
DTEND;TZID=Atlantic/Reykjavik:20210803T190000
DTSTAMP:20260426T011820
CREATED:20210308T134402Z
LAST-MODIFIED:20210308T134402Z
UID:18777-1628006400-1628017200@gkg.is
SUMMARY:Kvennagolf á Mýrinni (10)
DESCRIPTION:Það opnar fyrir skráningu í Þriðjudagsspilið klukkan 12:00 á miðvikudeginum áður.\nEf það er orðið fullt skal senda tölvupóst á gkgkonur@gmail.com\, þá ertu komin á biðlista og farið verður eftir honum þegar skráð er. Engar undantekningar eru á því.
URL:https://gkg.is/event/kvennagolf-a-myrinni-10/
LOCATION:Mýrin\, Vífilsstaðarvegi\, Reykjavík\, Garðabær\, 210\, Iceland
CATEGORIES:Kvennanefnd,Mót
ORGANIZER;CN="Kvennanefnd%20GKG":MAILTO:gkgkonur@gmail.com
END:VEVENT
BEGIN:VEVENT
DTSTART;VALUE=DATE:20210806
DTEND;VALUE=DATE:20210807
DTSTAMP:20260426T011820
CREATED:20210312T135435Z
LAST-MODIFIED:20210312T135435Z
UID:18833-1628208000-1628294399@gkg.is
SUMMARY:TARAMAR - vissuferð á Flúðir
DESCRIPTION:Farið verður með rútu kl. 12:00 frá GKG
URL:https://gkg.is/event/taramar-vissuferd-a-fludir/
LOCATION:Garðabær
CATEGORIES:Kvennanefnd,Mót
ORGANIZER;CN="Kvennanefnd%20GKG":MAILTO:gkgkonur@gmail.com
END:VEVENT
BEGIN:VEVENT
DTSTART;TZID=Atlantic/Reykjavik:20210810T160000
DTEND;TZID=Atlantic/Reykjavik:20210810T190000
DTSTAMP:20260426T011820
CREATED:20210308T134647Z
LAST-MODIFIED:20210308T134647Z
UID:18779-1628611200-1628622000@gkg.is
SUMMARY:Kvennagolf á Mýrinni (11)
DESCRIPTION:Það opnar fyrir skráningu í Þriðjudagsspilið klukkan 12:00 á miðvikudeginum áður.\nEf það er orðið fullt skal senda tölvupóst á gkgkonur@gmail.com\, þá ertu komin á biðlista og farið verður eftir honum þegar skráð er. Engar undantekningar eru á því.
URL:https://gkg.is/event/kvennagolf-a-myrinni-11/
LOCATION:Mýrin\, Vífilsstaðarvegi\, Reykjavík\, Garðabær\, 210\, Iceland
CATEGORIES:Kvennanefnd,Mót
ORGANIZER;CN="Kvennanefnd%20GKG":MAILTO:gkgkonur@gmail.com
END:VEVENT
BEGIN:VEVENT
DTSTART;VALUE=DATE:20210811
DTEND;VALUE=DATE:20210812
DTSTAMP:20260426T011820
CREATED:20210217T125246Z
LAST-MODIFIED:20210217T125246Z
UID:18651-1628640000-1628726399@gkg.is
SUMMARY:Kristalsmótaröð (3)
DESCRIPTION:Þriðja mót í unglingamótaröð GKG. \nNánari upplýsingar um rástíma og skráningu á golfbox.golf\, sjá hlekk ef smellt er á viðburðinn.
URL:https://gkg.is/event/kristalsmotarod-3/
LOCATION:Leirdalurinn\, Vífilsstaðarvegi\, Reykjavík\, Garðabær\, 210\, Iceland
CATEGORIES:Mót,Unglingamót
END:VEVENT
BEGIN:VEVENT
DTSTART;VALUE=DATE:20210812
DTEND;VALUE=DATE:20210813
DTSTAMP:20260426T011820
CREATED:20210217T130905Z
LAST-MODIFIED:20210217T130905Z
UID:18663-1628726400-1628812799@gkg.is
SUMMARY:Floridana mótaröðin (4)
DESCRIPTION:Fjórða mót í unglingamótaröð GKG. \nNánari upplýsingar um rástíma og skráningu á golfbox.golf\, sjá hlekk ef smellt er á viðburðinn.
URL:https://gkg.is/event/floridana-motarodin-4/
LOCATION:Mýrin\, Vífilsstaðarvegi\, Reykjavík\, Garðabær\, 210\, Iceland
CATEGORIES:Mót,Unglingamót
END:VEVENT
BEGIN:VEVENT
DTSTART;VALUE=DATE:20210813
DTEND;VALUE=DATE:20210814
DTSTAMP:20260426T011820
CREATED:20210312T135530Z
LAST-MODIFIED:20210312T135530Z
UID:18835-1628812800-1628899199@gkg.is
SUMMARY:Vinkvennamót - Leirdalur (GKG - GR)
DESCRIPTION:
URL:https://gkg.is/event/vinkvennamot-leirdalur-gkg-gr/
LOCATION:Leirdalurinn\, Vífilsstaðarvegi\, Reykjavík\, Garðabær\, 210\, Iceland
CATEGORIES:Kvennanefnd,Mót
ORGANIZER;CN="Kvennanefnd%20GKG":MAILTO:gkgkonur@gmail.com
END:VEVENT
BEGIN:VEVENT
DTSTART;TZID=Atlantic/Reykjavik:20210817T160000
DTEND;TZID=Atlantic/Reykjavik:20210817T190000
DTSTAMP:20260426T011820
CREATED:20210308T135001Z
LAST-MODIFIED:20210308T135001Z
UID:18781-1629216000-1629226800@gkg.is
SUMMARY:Kvennagolf á Mýrinni (12)
DESCRIPTION:Það opnar fyrir skráningu í Þriðjudagsspilið klukkan 12:00 á miðvikudeginum áður.\nEf það er orðið fullt skal senda tölvupóst á gkgkonur@gmail.com\, þá ertu komin á biðlista og farið verður eftir honum þegar skráð er. Engar undantekningar eru á því.
URL:https://gkg.is/event/kvennagolf-a-myrinni-12/
LOCATION:Mýrin\, Vífilsstaðarvegi\, Reykjavík\, Garðabær\, 210\, Iceland
CATEGORIES:Kvennanefnd,Mót
ORGANIZER;CN="Kvennanefnd%20GKG":MAILTO:gkgkonur@gmail.com
END:VEVENT
BEGIN:VEVENT
DTSTART;VALUE=DATE:20210822
DTEND;VALUE=DATE:20210823
DTSTAMP:20260426T011820
CREATED:20210312T135618Z
LAST-MODIFIED:20210312T135618Z
UID:18837-1629590400-1629676799@gkg.is
SUMMARY:Vinkvennamót - Grafarholt (GR - GKG)
DESCRIPTION:
URL:https://gkg.is/event/vinkvennamot-grafarholt-gr-gkg/
LOCATION:Garðabær
CATEGORIES:Kvennanefnd,Mót
ORGANIZER;CN="Kvennanefnd%20GKG":MAILTO:gkgkonur@gmail.com
END:VEVENT
BEGIN:VEVENT
DTSTART;TZID=Atlantic/Reykjavik:20210824T160000
DTEND;TZID=Atlantic/Reykjavik:20210824T190000
DTSTAMP:20260426T011820
CREATED:20210308T140644Z
LAST-MODIFIED:20210308T140644Z
UID:18783-1629820800-1629831600@gkg.is
SUMMARY:Kvennagolf á Mýrinni (13)
DESCRIPTION:Það opnar fyrir skráningu í Þriðjudagsspilið klukkan 12:00 á miðvikudeginum áður.\nEf það er orðið fullt skal senda tölvupóst á gkgkonur@gmail.com\, þá ertu komin á biðlista og farið verður eftir honum þegar skráð er. Engar undantekningar eru á því.
URL:https://gkg.is/event/kvennagolf-a-myrinni-13/
LOCATION:Mýrin\, Vífilsstaðarvegi\, Reykjavík\, Garðabær\, 210\, Iceland
CATEGORIES:Kvennanefnd,Mót
ORGANIZER;CN="Kvennanefnd%20GKG":MAILTO:gkgkonur@gmail.com
END:VEVENT
BEGIN:VEVENT
DTSTART;VALUE=DATE:20210828
DTEND;VALUE=DATE:20210829
DTSTAMP:20260426T011820
CREATED:20210215T135421Z
LAST-MODIFIED:20210215T135542Z
UID:18638-1630108800-1630195199@gkg.is
SUMMARY:Ecco opna minningarmót GKG
DESCRIPTION:Nánari upplýsingar koma síðar
URL:https://gkg.is/event/ecco-opna-minningarmot-gkg/
LOCATION:Leirdalurinn\, Vífilsstaðarvegi\, Reykjavík\, Garðabær\, 210\, Iceland
CATEGORIES:Mót
END:VEVENT
BEGIN:VEVENT
DTSTART;TZID=Atlantic/Reykjavik:20210831T150000
DTEND;TZID=Atlantic/Reykjavik:20210831T190000
DTSTAMP:20260426T011820
CREATED:20210312T135955Z
LAST-MODIFIED:20210312T135955Z
UID:18839-1630422000-1630436400@gkg.is
SUMMARY:Freixenet - einstaklings punktamót á Mýrinni
DESCRIPTION:Í þessu móti má einungis hafa meðferðis eina kylfu og pútter. \nLITAÞEMA ER Í MÓTINU! 
URL:https://gkg.is/event/freixenet-einstaklings-punktamot-a-myrinni/
LOCATION:Mýrin\, Vífilsstaðarvegi\, Reykjavík\, Garðabær\, 210\, Iceland
CATEGORIES:Kvennanefnd,Mót
ORGANIZER;CN="Kvennanefnd%20GKG":MAILTO:gkgkonur@gmail.com
END:VEVENT
END:VCALENDAR