BEGIN:VCALENDAR
VERSION:2.0
PRODID:-// Golfklúbbur Kópavogs og Garðabæjar - ECPv5.15.0.1//NONSGML v1.0//EN
CALSCALE:GREGORIAN
METHOD:PUBLISH
X-WR-CALNAME: Golfklúbbur Kópavogs og Garðabæjar
X-ORIGINAL-URL:https://gkg.is
X-WR-CALDESC:Events for  Golfklúbbur Kópavogs og Garðabæjar
REFRESH-INTERVAL;VALUE=DURATION:PT1H
X-Robots-Tag:noindex
X-PUBLISHED-TTL:PT1H
BEGIN:VTIMEZONE
TZID:Atlantic/Reykjavik
BEGIN:STANDARD
TZOFFSETFROM:+0000
TZOFFSETTO:+0000
TZNAME:GMT
DTSTART:20210101T000000
END:STANDARD
END:VTIMEZONE
BEGIN:VEVENT
DTSTART;VALUE=DATE:20210904
DTEND;VALUE=DATE:20210905
DTSTAMP:20260426T000143
CREATED:20210217T125424Z
LAST-MODIFIED:20210217T125424Z
UID:18653-1630713600-1630799999@gkg.is
SUMMARY:Kristalsmótaröð (4)
DESCRIPTION:Fjórða mót í unglingamótaröð GKG. \nNánari upplýsingar um rástíma og skráningu á golfbox.golf\, sjá hlekk ef smellt er á viðburðinn.
URL:https://gkg.is/event/kristalsmotarod-4/
LOCATION:Leirdalurinn\, Vífilsstaðarvegi\, Reykjavík\, Garðabær\, 210\, Iceland
CATEGORIES:Mót,Unglingamót
END:VEVENT
BEGIN:VEVENT
DTSTART;VALUE=DATE:20210904
DTEND;VALUE=DATE:20210905
DTSTAMP:20260426T000143
CREATED:20210217T131037Z
LAST-MODIFIED:20210217T131037Z
UID:18665-1630713600-1630799999@gkg.is
SUMMARY:Floridana mótaröðin (5)
DESCRIPTION:Fimmta mót í unglingamótaröð GKG. \nNánari upplýsingar um rástíma og skráningu á golfbox.golf\, sjá hlekk ef smellt er á viðburðinn.
URL:https://gkg.is/event/floridana-motarodin-5/
LOCATION:Mýrin\, Vífilsstaðarvegi\, Reykjavík\, Garðabær\, 210\, Iceland
CATEGORIES:Mót,Unglingamót
END:VEVENT
BEGIN:VEVENT
DTSTART;TZID=Atlantic/Reykjavik:20210907T160000
DTEND;TZID=Atlantic/Reykjavik:20210907T190000
DTSTAMP:20260426T000143
CREATED:20210308T140832Z
LAST-MODIFIED:20210308T140832Z
UID:18785-1631030400-1631041200@gkg.is
SUMMARY:Kvennagolf á Mýrinni (14)
DESCRIPTION:Það opnar fyrir skráningu í Þriðjudagsspilið klukkan 12:00 á miðvikudeginum áður.\nEf það er orðið fullt skal senda tölvupóst á gkgkonur@gmail.com\, þá ertu komin á biðlista og farið verður eftir honum þegar skráð er. Engar undantekningar eru á því.
URL:https://gkg.is/event/kvennagolf-a-myrinni-14/
LOCATION:Mýrin\, Vífilsstaðarvegi\, Reykjavík\, Garðabær\, 210\, Iceland
CATEGORIES:Kvennanefnd,Mót
ORGANIZER;CN="Kvennanefnd%20GKG":MAILTO:gkgkonur@gmail.com
END:VEVENT
BEGIN:VEVENT
DTSTART;VALUE=DATE:20210908
DTEND;VALUE=DATE:20210909
DTSTAMP:20260426T000143
CREATED:20210217T133846Z
LAST-MODIFIED:20210217T134152Z
UID:18672-1631059200-1631145599@gkg.is
SUMMARY:Lokamót á Mýrinni (65+)
DESCRIPTION:Lokamót öldunganefndar á Mýrinni. \nNánari upplýsingar verða birtar á golfbox.golf\, þegar nær dregur.
URL:https://gkg.is/event/lokamot-a-myrinni-65/
LOCATION:Mýrin\, Vífilsstaðarvegi\, Reykjavík\, Garðabær\, 210\, Iceland
CATEGORIES:65+ mót,Mót
END:VEVENT
BEGIN:VEVENT
DTSTART;TZID=Atlantic/Reykjavik:20210914T160000
DTEND;TZID=Atlantic/Reykjavik:20210914T190000
DTSTAMP:20260426T000143
CREATED:20210308T141136Z
LAST-MODIFIED:20210308T141136Z
UID:18787-1631635200-1631646000@gkg.is
SUMMARY:Kvennagolf á Mýrinni (15)
DESCRIPTION:Það opnar fyrir skráningu í Þriðjudagsspilið klukkan 12:00 á miðvikudeginum áður.\nEf það er orðið fullt skal senda tölvupóst á gkgkonur@gmail.com\, þá ertu komin á biðlista og farið verður eftir honum þegar skráð er. Engar undantekningar eru á því.
URL:https://gkg.is/event/kvennagolf-a-myrinni-15/
LOCATION:Mýrin\, Vífilsstaðarvegi\, Reykjavík\, Garðabær\, 210\, Iceland
CATEGORIES:Kvennanefnd,Mót
ORGANIZER;CN="Kvennanefnd%20GKG":MAILTO:gkgkonur@gmail.com
END:VEVENT
BEGIN:VEVENT
DTSTART;VALUE=DATE:20210918
DTEND;VALUE=DATE:20210919
DTSTAMP:20260426T000143
CREATED:20210217T125534Z
LAST-MODIFIED:20210217T125534Z
UID:18655-1631923200-1632009599@gkg.is
SUMMARY:Kristalsmótaröð (5)
DESCRIPTION:Fimmta mót í unglingamótaröð GKG. \nNánari upplýsingar um rástíma og skráningu á golfbox.golf\, sjá hlekk ef smellt er á viðburðinn.
URL:https://gkg.is/event/kristalsmotarod-5/
LOCATION:Leirdalurinn\, Vífilsstaðarvegi\, Reykjavík\, Garðabær\, 210\, Iceland
CATEGORIES:Mót,Unglingamót
END:VEVENT
BEGIN:VEVENT
DTSTART;VALUE=DATE:20210918
DTEND;VALUE=DATE:20210919
DTSTAMP:20260426T000143
CREATED:20210312T140102Z
LAST-MODIFIED:20210312T140102Z
UID:18841-1631923200-1632009599@gkg.is
SUMMARY:Leirdalur - TARAMAR - lokamót og lokahóf
DESCRIPTION:
URL:https://gkg.is/event/leirdalur-taramar-lokamot-og-lokahof/
LOCATION:Leirdalurinn\, Vífilsstaðarvegi\, Reykjavík\, Garðabær\, 210\, Iceland
CATEGORIES:Kvennanefnd,Mót
ORGANIZER;CN="Kvennanefnd%20GKG":MAILTO:gkgkonur@gmail.com
END:VEVENT
END:VCALENDAR